Package: TreeAndLeaf Version: 1.14.0 Command: /Library/Frameworks/R.framework/Resources/bin/R CMD build --keep-empty-dirs --no-resave-data TreeAndLeaf StartedAt: 2024-03-03 18:38:01 -0500 (Sun, 03 Mar 2024) EndedAt: 2024-03-03 18:38:13 -0500 (Sun, 03 Mar 2024) EllapsedTime: 12.5 seconds RetCode: 0 Status: OK PackageFile: TreeAndLeaf_1.14.0.tar.gz PackageFileSize: 5.639 MiB