Package: TreeAndLeaf Version: 1.14.0 Command: rm -rf TreeAndLeaf.buildbin-libdir && mkdir TreeAndLeaf.buildbin-libdir && /Users/biocbuild/BBS/utils/build-universal.sh TreeAndLeaf_1.14.0.tar.gz /Library/Frameworks/R.framework/Resources/bin/R TreeAndLeaf.buildbin-libdir StartedAt: 2024-03-04 01:09:24 -0500 (Mon, 04 Mar 2024) EndedAt: 2024-03-04 01:09:35 -0500 (Mon, 04 Mar 2024) EllapsedTime: 10.4 seconds RetCode: 0 Status: OK PackageFile: TreeAndLeaf_1.14.0.tgz PackageFileSize: 3.178 MiB