Package: Travel Version: 1.10.0 Command: /Library/Frameworks/R.framework/Resources/bin/R CMD build --keep-empty-dirs --no-resave-data Travel StartedAt: 2024-03-03 18:37:57 -0500 (Sun, 03 Mar 2024) EndedAt: 2024-03-03 18:38:40 -0500 (Sun, 03 Mar 2024) EllapsedTime: 42.9 seconds RetCode: 1 Status: ERROR PackageFile: None PackageFileSize: NA