Package: TransView Version: 1.46.0 Command: rm -rf TransView.buildbin-libdir && mkdir TransView.buildbin-libdir && F:\biocbuild\bbs-3.18-bioc\R\bin\R.exe CMD INSTALL --build --library=TransView.buildbin-libdir TransView_1.46.0.tar.gz StartedAt: 2024-04-16 07:49:02 -0400 (Tue, 16 Apr 2024) EndedAt: 2024-04-16 07:49:41 -0400 (Tue, 16 Apr 2024) EllapsedTime: 39.6 seconds RetCode: 0 Status: OK PackageFile: TransView_1.46.0.zip PackageFileSize: 5.739 MiB