Package: TransView Version: 1.46.0 Command: /Library/Frameworks/R.framework/Resources/bin/R CMD check --install=check:TransView.install-out.txt --library=/Library/Frameworks/R.framework/Resources/library --no-vignettes --timings TransView_1.46.0.tar.gz StartedAt: 2024-03-04 00:01:24 -0500 (Mon, 04 Mar 2024) EndedAt: 2024-03-04 00:03:29 -0500 (Mon, 04 Mar 2024) EllapsedTime: 125.3 seconds RetCode: 0 Status: WARNINGS CheckDir: TransView.Rcheck Warnings: 1