Package: TransView Version: 1.46.0 Command: /home/biocbuild/R/R-4.3.1/bin/R CMD build --keep-empty-dirs --no-resave-data TransView StartedAt: 2023-11-02 07:11:07 -0000 (Thu, 02 Nov 2023) EndedAt: 2023-11-02 07:11:39 -0000 (Thu, 02 Nov 2023) EllapsedTime: 32.1 seconds RetCode: 0 Status: OK PackageFile: TransView_1.46.0.tar.gz PackageFileSize: 1.867 MiB