Package: ToxicoGx Version: 2.6.0 Command: /Library/Frameworks/R.framework/Resources/bin/R CMD build --keep-empty-dirs --no-resave-data ToxicoGx StartedAt: 2024-04-15 22:35:54 -0400 (Mon, 15 Apr 2024) EndedAt: 2024-04-15 22:37:48 -0400 (Mon, 15 Apr 2024) EllapsedTime: 114.4 seconds RetCode: 0 Status: OK PackageFile: ToxicoGx_2.6.0.tar.gz PackageFileSize: 3.936 MiB