Package: TitanCNA Version: 1.40.0 Command: /Library/Frameworks/R.framework/Resources/bin/R CMD INSTALL TitanCNA StartedAt: 2024-03-03 15:22:02 -0500 (Sun, 03 Mar 2024) EndedAt: 2024-03-03 15:23:07 -0500 (Sun, 03 Mar 2024) EllapsedTime: 65.1 seconds RetCode: 0 Status: OK