Package: TitanCNA Version: 1.40.0 Command: /Library/Frameworks/R.framework/Resources/bin/R CMD check --install=check:TitanCNA.install-out.txt --library=/Library/Frameworks/R.framework/Resources/library --no-vignettes --timings TitanCNA_1.40.0.tar.gz StartedAt: 2024-03-03 23:57:18 -0500 (Sun, 03 Mar 2024) EndedAt: 2024-03-04 00:04:25 -0500 (Mon, 04 Mar 2024) EllapsedTime: 427.1 seconds RetCode: 0 Status: WARNINGS CheckDir: TitanCNA.Rcheck Warnings: 2