Package: TitanCNA Version: 1.40.0 Command: rm -rf TitanCNA.buildbin-libdir && mkdir TitanCNA.buildbin-libdir && /Users/biocbuild/BBS/utils/build-universal.sh TitanCNA_1.40.0.tar.gz /Library/Frameworks/R.framework/Resources/bin/R TitanCNA.buildbin-libdir StartedAt: 2024-03-04 01:08:51 -0500 (Mon, 04 Mar 2024) EndedAt: 2024-03-04 01:10:04 -0500 (Mon, 04 Mar 2024) EllapsedTime: 72.6 seconds RetCode: 0 Status: OK PackageFile: TitanCNA_1.40.0.tgz PackageFileSize: 4.099 MiB