Package: TitanCNA Version: 1.40.0 Command: /home/biocbuild/R/R-4.3.1/bin/R CMD build --keep-empty-dirs --no-resave-data TitanCNA StartedAt: 2023-11-02 07:06:26 -0000 (Thu, 02 Nov 2023) EndedAt: 2023-11-02 07:08:24 -0000 (Thu, 02 Nov 2023) EllapsedTime: 117.9 seconds RetCode: 0 Status: OK PackageFile: TitanCNA_1.40.0.tar.gz PackageFileSize: 3.794 MiB