Package: TargetScore Version: 1.40.0 Command: /Library/Frameworks/R.framework/Resources/bin/R CMD INSTALL TargetScore StartedAt: 2024-04-15 15:11:21 -0400 (Mon, 15 Apr 2024) EndedAt: 2024-04-15 15:11:40 -0400 (Mon, 15 Apr 2024) EllapsedTime: 18.7 seconds RetCode: 0 Status: OK