Package: TargetScore Version: 1.40.0 Command: /Library/Frameworks/R.framework/Resources/bin/R CMD build --keep-empty-dirs --no-resave-data TargetScore StartedAt: 2024-04-15 22:28:59 -0400 (Mon, 15 Apr 2024) EndedAt: 2024-04-15 22:29:37 -0400 (Mon, 15 Apr 2024) EllapsedTime: 37.7 seconds RetCode: 0 Status: OK PackageFile: TargetScore_1.40.0.tar.gz PackageFileSize: 1.232 MiB