Package: TargetScore Version: 1.40.0 Command: /Library/Frameworks/R.framework/Resources/bin/R CMD INSTALL TargetScore StartedAt: 2024-03-03 15:07:57 -0500 (Sun, 03 Mar 2024) EndedAt: 2024-03-03 15:08:28 -0500 (Sun, 03 Mar 2024) EllapsedTime: 31.1 seconds RetCode: 0 Status: OK