Package: TargetDecoy Version: 1.8.0 Command: /Library/Frameworks/R.framework/Resources/bin/R CMD build --keep-empty-dirs --no-resave-data TargetDecoy StartedAt: 2024-03-03 18:33:43 -0500 (Sun, 03 Mar 2024) EndedAt: 2024-03-03 18:34:24 -0500 (Sun, 03 Mar 2024) EllapsedTime: 40.7 seconds RetCode: 0 Status: OK PackageFile: TargetDecoy_1.8.0.tar.gz PackageFileSize: 3.996 MiB