Package: TarSeqQC Version: 1.29.1 Command: /home/biocbuild/bbs-3.18-bioc/R/bin/R CMD check --install=check:TarSeqQC.install-out.txt --library=/home/biocbuild/bbs-3.18-bioc/R/site-library --timings TarSeqQC_1.29.1.tar.gz StartedAt: 2023-04-20 09:48:07 -0400 (Thu, 20 Apr 2023) EndedAt: 2023-04-20 09:52:45 -0400 (Thu, 20 Apr 2023) EllapsedTime: 277.5 seconds RetCode: 1 Status: ERROR CheckDir: TarSeqQC.Rcheck Warnings: NA