Package: TTMap Version: 1.24.0 Command: chmod a+r TTMap -R && F:\biocbuild\bbs-3.18-bioc\R\bin\R.exe CMD build --keep-empty-dirs --no-resave-data TTMap StartedAt: 2024-04-15 21:51:03 -0400 (Mon, 15 Apr 2024) EndedAt: 2024-04-15 21:52:03 -0400 (Mon, 15 Apr 2024) EllapsedTime: 59.4 seconds RetCode: 0 Status: OK PackageFile: TTMap_1.24.0.tar.gz PackageFileSize: 1.612 MiB