Package: TTMap Version: 1.24.0 Command: /Library/Frameworks/R.framework/Resources/bin/R CMD build --keep-empty-dirs --no-resave-data TTMap StartedAt: 2024-04-15 22:40:43 -0400 (Mon, 15 Apr 2024) EndedAt: 2024-04-15 22:42:31 -0400 (Mon, 15 Apr 2024) EllapsedTime: 107.7 seconds RetCode: 0 Status: OK PackageFile: TTMap_1.24.0.tar.gz PackageFileSize: 1.61 MiB