Package: TTMap Version: 1.24.0 Command: /Library/Frameworks/R.framework/Resources/bin/R CMD check --install=check:TTMap.install-out.txt --library=/Library/Frameworks/R.framework/Resources/library --no-vignettes --timings TTMap_1.24.0.tar.gz StartedAt: 2024-03-04 00:04:49 -0500 (Mon, 04 Mar 2024) EndedAt: 2024-03-04 00:08:53 -0500 (Mon, 04 Mar 2024) EllapsedTime: 244.3 seconds RetCode: 0 Status: OK CheckDir: TTMap.Rcheck Warnings: 0