Package: TTMap Version: 1.24.0 Command: /Library/Frameworks/R.framework/Resources/bin/R CMD build --keep-empty-dirs --no-resave-data TTMap StartedAt: 2024-03-03 18:39:07 -0500 (Sun, 03 Mar 2024) EndedAt: 2024-03-03 18:40:06 -0500 (Sun, 03 Mar 2024) EllapsedTime: 58.6 seconds RetCode: 0 Status: OK PackageFile: TTMap_1.24.0.tar.gz PackageFileSize: 1.61 MiB