Package: TTMap Version: 1.24.0 Command: rm -rf TTMap.buildbin-libdir && mkdir TTMap.buildbin-libdir && /Users/biocbuild/BBS/utils/build-universal.sh TTMap_1.24.0.tar.gz /Library/Frameworks/R.framework/Resources/bin/R TTMap.buildbin-libdir StartedAt: 2024-03-04 01:09:51 -0500 (Mon, 04 Mar 2024) EndedAt: 2024-03-04 01:10:26 -0500 (Mon, 04 Mar 2024) EllapsedTime: 34.9 seconds RetCode: 0 Status: OK PackageFile: TTMap_1.24.0.tgz PackageFileSize: 1.391 MiB