Package: TSAR Version: 1.0.0 Command: chmod a+r TSAR -R && F:\biocbuild\bbs-3.18-bioc\R\bin\R.exe CMD build --keep-empty-dirs --no-resave-data TSAR StartedAt: 2024-04-15 21:50:39 -0400 (Mon, 15 Apr 2024) EndedAt: 2024-04-15 21:53:20 -0400 (Mon, 15 Apr 2024) EllapsedTime: 161.5 seconds RetCode: 0 Status: OK PackageFile: TSAR_1.0.0.tar.gz PackageFileSize: 3.252 MiB