Package: TSAR Version: 1.0.0 Command: rm -rf TSAR.buildbin-libdir && mkdir TSAR.buildbin-libdir && F:\biocbuild\bbs-3.18-bioc\R\bin\R.exe CMD INSTALL --build --library=TSAR.buildbin-libdir TSAR_1.0.0.tar.gz StartedAt: 2024-04-16 07:49:40 -0400 (Tue, 16 Apr 2024) EndedAt: 2024-04-16 07:50:00 -0400 (Tue, 16 Apr 2024) EllapsedTime: 20.7 seconds RetCode: 0 Status: OK PackageFile: TSAR_1.0.0.zip PackageFileSize: 3.193 MiB