Package: TSAR Version: 1.0.0 Command: /home/biocbuild/bbs-3.18-bioc/R/bin/R CMD check --install=check:TSAR.install-out.txt --library=/home/biocbuild/bbs-3.18-bioc/R/site-library --timings TSAR_1.0.0.tar.gz StartedAt: 2024-04-16 04:59:33 -0400 (Tue, 16 Apr 2024) EndedAt: 2024-04-16 05:05:04 -0400 (Tue, 16 Apr 2024) EllapsedTime: 331.1 seconds RetCode: 0 Status: OK CheckDir: TSAR.Rcheck Warnings: 0