Package: TSAR Version: 1.0.0 Command: /Library/Frameworks/R.framework/Resources/bin/R CMD build --keep-empty-dirs --no-resave-data TSAR StartedAt: 2024-03-03 18:38:56 -0500 (Sun, 03 Mar 2024) EndedAt: 2024-03-03 18:41:18 -0500 (Sun, 03 Mar 2024) EllapsedTime: 142.0 seconds RetCode: 0 Status: OK PackageFile: TSAR_1.0.0.tar.gz PackageFileSize: 3.586 MiB