Package: TSAR Version: 1.0.0 Command: /home/biocbuild/R/R-4.3.1/bin/R CMD INSTALL TSAR StartedAt: 2023-11-01 21:00:30 -0000 (Wed, 01 Nov 2023) EndedAt: 2023-11-01 21:00:45 -0000 (Wed, 01 Nov 2023) EllapsedTime: 15.6 seconds RetCode: 0 Status: OK