Package: TRONCO Version: 2.34.0 Command: rm -rf TRONCO.buildbin-libdir && mkdir TRONCO.buildbin-libdir && /Users/biocbuild/BBS/utils/build-universal.sh TRONCO_2.34.0.tar.gz /Library/Frameworks/R.framework/Resources/bin/R TRONCO.buildbin-libdir StartedAt: 2024-04-16 12:54:35 -0400 (Tue, 16 Apr 2024) EndedAt: 2024-04-16 12:55:06 -0400 (Tue, 16 Apr 2024) EllapsedTime: 31.1 seconds RetCode: 0 Status: OK PackageFile: TRONCO_2.34.0.tgz PackageFileSize: 4.848 MiB