Package: TRONCO Version: 2.34.0 Command: /Library/Frameworks/R.framework/Resources/bin/R CMD INSTALL TRONCO StartedAt: 2024-03-03 15:29:56 -0500 (Sun, 03 Mar 2024) EndedAt: 2024-03-03 15:30:15 -0500 (Sun, 03 Mar 2024) EllapsedTime: 18.6 seconds RetCode: 0 Status: OK