Package: TRONCO Version: 2.34.0 Command: /Library/Frameworks/R.framework/Resources/bin/R CMD check --install=check:TRONCO.install-out.txt --library=/Library/Frameworks/R.framework/Resources/library --no-vignettes --timings TRONCO_2.34.0.tar.gz StartedAt: 2024-03-04 00:03:29 -0500 (Mon, 04 Mar 2024) EndedAt: 2024-03-04 00:07:30 -0500 (Mon, 04 Mar 2024) EllapsedTime: 240.7 seconds RetCode: 0 Status: OK CheckDir: TRONCO.Rcheck Warnings: 0