Package: TRESS Version: 1.8.0 Command: /home/biocbuild/bbs-3.18-bioc/R/bin/R CMD INSTALL TRESS StartedAt: 2024-04-15 15:28:50 -0400 (Mon, 15 Apr 2024) EndedAt: 2024-04-15 15:29:30 -0400 (Mon, 15 Apr 2024) EllapsedTime: 39.4 seconds RetCode: 0 Status: OK