Package: TRESS Version: 1.8.0 Command: /home/biocbuild/bbs-3.18-bioc/R/bin/R CMD build --keep-empty-dirs --no-resave-data TRESS StartedAt: 2024-04-15 19:39:02 -0400 (Mon, 15 Apr 2024) EndedAt: 2024-04-15 19:39:03 -0400 (Mon, 15 Apr 2024) EllapsedTime: 1.0 seconds RetCode: 0 Status: OK PackageFile: TRESS_1.8.0.tar.gz PackageFileSize: 483.8 KiB