Package: TRESS Version: 1.8.0 Command: /Library/Frameworks/R.framework/Resources/bin/R CMD INSTALL TRESS StartedAt: 2024-04-15 15:52:39 -0400 (Mon, 15 Apr 2024) EndedAt: 2024-04-15 15:54:00 -0400 (Mon, 15 Apr 2024) EllapsedTime: 81.4 seconds RetCode: 0 Status: OK