Package: TRESS Version: 1.8.0 Command: /Library/Frameworks/R.framework/Resources/bin/R CMD build --keep-empty-dirs --no-resave-data TRESS StartedAt: 2024-03-03 18:38:17 -0500 (Sun, 03 Mar 2024) EndedAt: 2024-03-03 18:38:18 -0500 (Sun, 03 Mar 2024) EllapsedTime: 1.1 seconds RetCode: 0 Status: OK PackageFile: TRESS_1.8.0.tar.gz PackageFileSize: 483.9 KiB