Package: TREG Version: 1.6.0 Command: rm -rf TREG.buildbin-libdir && mkdir TREG.buildbin-libdir && F:\biocbuild\bbs-3.18-bioc\R\bin\R.exe CMD INSTALL --build --library=TREG.buildbin-libdir TREG_1.6.0.tar.gz StartedAt: 2024-04-16 07:49:14 -0400 (Tue, 16 Apr 2024) EndedAt: 2024-04-16 07:49:43 -0400 (Tue, 16 Apr 2024) EllapsedTime: 29.4 seconds RetCode: 0 Status: OK PackageFile: TREG_1.6.0.zip PackageFileSize: 1.647 MiB