Package: TREG Version: 1.6.0 Command: /Library/Frameworks/R.framework/Resources/bin/R CMD INSTALL TREG StartedAt: 2024-04-15 15:17:56 -0400 (Mon, 15 Apr 2024) EndedAt: 2024-04-15 15:18:48 -0400 (Mon, 15 Apr 2024) EllapsedTime: 52.0 seconds RetCode: 0 Status: OK