Package: TREG Version: 1.6.0 Command: /Library/Frameworks/R.framework/Resources/bin/R CMD build --keep-empty-dirs --no-resave-data TREG StartedAt: 2024-04-15 22:38:22 -0400 (Mon, 15 Apr 2024) EndedAt: 2024-04-15 22:42:08 -0400 (Mon, 15 Apr 2024) EllapsedTime: 226.5 seconds RetCode: 0 Status: OK PackageFile: TREG_1.6.0.tar.gz PackageFileSize: 2.605 MiB