Package: TPP Version: 3.30.0 Command: /home/biocbuild/bbs-3.18-bioc/R/bin/R CMD check --install=check:TPP.install-out.txt --library=/home/biocbuild/bbs-3.18-bioc/R/site-library --timings TPP_3.30.0.tar.gz StartedAt: 2024-04-16 04:50:34 -0400 (Tue, 16 Apr 2024) EndedAt: 2024-04-16 05:00:26 -0400 (Tue, 16 Apr 2024) EllapsedTime: 592.0 seconds RetCode: 0 Status: OK CheckDir: TPP.Rcheck Warnings: 0