Package: TPP Version: 3.30.0 Command: rm -rf TPP.buildbin-libdir && mkdir TPP.buildbin-libdir && /Users/biocbuild/BBS/utils/build-universal.sh TPP_3.30.0.tar.gz /Library/Frameworks/R.framework/Resources/bin/R TPP.buildbin-libdir StartedAt: 2024-03-04 01:09:06 -0500 (Mon, 04 Mar 2024) EndedAt: 2024-03-04 01:09:32 -0500 (Mon, 04 Mar 2024) EllapsedTime: 26.1 seconds RetCode: 0 Status: OK PackageFile: TPP_3.30.0.tgz PackageFileSize: 8.858 MiB