Package: TOP Version: 1.2.0 Command: /home/biocbuild/bbs-3.18-bioc/R/bin/R CMD INSTALL TOP StartedAt: 2024-04-15 15:47:48 -0400 (Mon, 15 Apr 2024) EndedAt: 2024-04-15 15:48:20 -0400 (Mon, 15 Apr 2024) EllapsedTime: 32.4 seconds RetCode: 0 Status: OK