Package: TOP Version: 1.2.0 Command: /Library/Frameworks/R.framework/Resources/bin/R CMD check --install=check:TOP.install-out.txt --library=/Library/Frameworks/R.framework/Resources/library --no-vignettes --timings TOP_1.2.0.tar.gz StartedAt: 2024-04-16 09:59:35 -0400 (Tue, 16 Apr 2024) EndedAt: 2024-04-16 10:06:40 -0400 (Tue, 16 Apr 2024) EllapsedTime: 425.6 seconds RetCode: 0 Status: OK CheckDir: TOP.Rcheck Warnings: 0