Package: TOP Version: 1.2.0 Command: /home/biocbuild/R/R-4.3.1/bin/R CMD check --install=check:TOP.install-out.txt --library=/home/biocbuild/R/R-4.3.1/site-library --no-vignettes --timings TOP_1.2.0.tar.gz StartedAt: 2023-11-02 14:58:33 -0000 (Thu, 02 Nov 2023) EndedAt: 2023-11-02 15:03:19 -0000 (Thu, 02 Nov 2023) EllapsedTime: 286.5 seconds RetCode: 0 Status: OK CheckDir: TOP.Rcheck Warnings: 0