Package: TOAST Version: 1.16.0 Command: F:\biocbuild\bbs-3.18-bioc\R\bin\R.exe CMD INSTALL TOAST StartedAt: 2024-04-15 15:48:38 -0400 (Mon, 15 Apr 2024) EndedAt: 2024-04-15 15:49:15 -0400 (Mon, 15 Apr 2024) EllapsedTime: 36.5 seconds RetCode: 0 Status: OK