Package: TOAST Version: 1.16.0 Command: /Library/Frameworks/R.framework/Resources/bin/R CMD check --install=check:TOAST.install-out.txt --library=/Library/Frameworks/R.framework/Resources/library --no-vignettes --timings TOAST_1.16.0.tar.gz StartedAt: 2024-04-16 09:59:03 -0400 (Tue, 16 Apr 2024) EndedAt: 2024-04-16 10:08:33 -0400 (Tue, 16 Apr 2024) EllapsedTime: 570.3 seconds RetCode: 0 Status: OK CheckDir: TOAST.Rcheck Warnings: 0