Package: TOAST Version: 1.16.0 Command: /home/biocbuild/R/R-4.3.1/bin/R CMD build --keep-empty-dirs --no-resave-data TOAST StartedAt: 2023-11-02 07:07:18 -0000 (Thu, 02 Nov 2023) EndedAt: 2023-11-02 07:11:07 -0000 (Thu, 02 Nov 2023) EllapsedTime: 228.8 seconds RetCode: 0 Status: OK PackageFile: TOAST_1.16.0.tar.gz PackageFileSize: 3.631 MiB