Package: TOAST Version: 1.16.0 Maintainer: Ziyi Li MaintainerEmail: zli16 at mdanderson.org git_url: https://git.bioconductor.org/packages/TOAST git_branch: RELEASE_3_18 git_last_commit: 404044b git_last_commit_date: 2023-10-24 11:14:43 -0400 (Tue, 24 Oct 2023)