Package: TNBC.CMS Version: 1.18.0 Command: F:\biocbuild\bbs-3.18-bioc\R\bin\R.exe CMD INSTALL TNBC.CMS StartedAt: 2024-04-15 16:40:59 -0400 (Mon, 15 Apr 2024) EndedAt: 2024-04-15 16:41:46 -0400 (Mon, 15 Apr 2024) EllapsedTime: 47.1 seconds RetCode: 0 Status: OK