Package: TNBC.CMS Version: 1.18.0 Command: /Library/Frameworks/R.framework/Resources/bin/R CMD check --install=check:TNBC.CMS.install-out.txt --library=/Library/Frameworks/R.framework/Resources/library --no-vignettes --timings TNBC.CMS_1.18.0.tar.gz StartedAt: 2024-04-16 09:58:12 -0400 (Tue, 16 Apr 2024) EndedAt: 2024-04-16 10:06:44 -0400 (Tue, 16 Apr 2024) EllapsedTime: 512.1 seconds RetCode: 0 Status: OK CheckDir: TNBC.CMS.Rcheck Warnings: 0