Package: TNBC.CMS Version: 1.18.0 Command: rm -rf TNBC.CMS.buildbin-libdir && mkdir TNBC.CMS.buildbin-libdir && /Users/biocbuild/BBS/utils/build-universal.sh TNBC.CMS_1.18.0.tar.gz /Library/Frameworks/R.framework/Resources/bin/R TNBC.CMS.buildbin-libdir StartedAt: 2024-04-16 12:52:57 -0400 (Tue, 16 Apr 2024) EndedAt: 2024-04-16 12:54:18 -0400 (Tue, 16 Apr 2024) EllapsedTime: 80.6 seconds RetCode: 0 Status: OK PackageFile: TNBC.CMS_1.18.0.tgz PackageFileSize: 3.098 MiB