Package: TNBC.CMS Version: 1.18.0 Command: /Library/Frameworks/R.framework/Resources/bin/R CMD build --keep-empty-dirs --no-resave-data TNBC.CMS StartedAt: 2024-03-03 18:36:36 -0500 (Sun, 03 Mar 2024) EndedAt: 2024-03-03 18:37:53 -0500 (Sun, 03 Mar 2024) EllapsedTime: 76.7 seconds RetCode: 0 Status: OK PackageFile: TNBC.CMS_1.18.0.tar.gz PackageFileSize: 2.962 MiB