Package: TMixClust Version: 1.24.0 Command: chmod a+r TMixClust -R && F:\biocbuild\bbs-3.18-bioc\R\bin\R.exe CMD build --keep-empty-dirs --no-resave-data TMixClust StartedAt: 2024-04-15 21:45:12 -0400 (Mon, 15 Apr 2024) EndedAt: 2024-04-15 21:45:44 -0400 (Mon, 15 Apr 2024) EllapsedTime: 32.4 seconds RetCode: 0 Status: OK PackageFile: TMixClust_1.24.0.tar.gz PackageFileSize: 508.5 KiB